BEGIN:VCALENDAR
VERSION:2.0
PRODID:-//Koblenzer Ruderclub Rhenania - ECPv6.15.20//NONSGML v1.0//EN
CALSCALE:GREGORIAN
METHOD:PUBLISH
X-ORIGINAL-URL:https://krc-rhenania.de
X-WR-CALDESC:Veranstaltungen für Koblenzer Ruderclub Rhenania
REFRESH-INTERVAL;VALUE=DURATION:PT1H
X-Robots-Tag:noindex
X-PUBLISHED-TTL:PT1H
BEGIN:VTIMEZONE
TZID:Europe/Berlin
BEGIN:DAYLIGHT
TZOFFSETFROM:+0100
TZOFFSETTO:+0200
TZNAME:CEST
DTSTART:20240331T010000
END:DAYLIGHT
BEGIN:STANDARD
TZOFFSETFROM:+0200
TZOFFSETTO:+0100
TZNAME:CET
DTSTART:20241027T010000
END:STANDARD
BEGIN:DAYLIGHT
TZOFFSETFROM:+0100
TZOFFSETTO:+0200
TZNAME:CEST
DTSTART:20250330T010000
END:DAYLIGHT
BEGIN:STANDARD
TZOFFSETFROM:+0200
TZOFFSETTO:+0100
TZNAME:CET
DTSTART:20251026T010000
END:STANDARD
BEGIN:DAYLIGHT
TZOFFSETFROM:+0100
TZOFFSETTO:+0200
TZNAME:CEST
DTSTART:20260329T010000
END:DAYLIGHT
BEGIN:STANDARD
TZOFFSETFROM:+0200
TZOFFSETTO:+0100
TZNAME:CET
DTSTART:20261025T010000
END:STANDARD
END:VTIMEZONE
BEGIN:VEVENT
DTSTART;VALUE=DATE:20250530
DTEND;VALUE=DATE:20250602
DTSTAMP:20260421T203850
CREATED:20250209T174444Z
LAST-MODIFIED:20250209T174444Z
UID:5463-1748563200-1748822399@krc-rhenania.de
SUMMARY:DRV Junioren Regatta
DESCRIPTION:
URL:https://krc-rhenania.de/event/drv-junioren-regatta-2
LOCATION:Hamburg
CATEGORIES:Regatta
END:VEVENT
BEGIN:VEVENT
DTSTART;VALUE=DATE:20250530
DTEND;VALUE=DATE:20250602
DTSTAMP:20260421T203850
CREATED:20250209T174547Z
LAST-MODIFIED:20250209T174547Z
UID:5465-1748563200-1748822399@krc-rhenania.de
SUMMARY:Internationale Regatta Ratzeburg
DESCRIPTION:
URL:https://krc-rhenania.de/event/internationale-regatta-ratzeburg
LOCATION:Ratzeburg
CATEGORIES:Regatta
END:VEVENT
BEGIN:VEVENT
DTSTART;VALUE=DATE:20250531
DTEND;VALUE=DATE:20250602
DTSTAMP:20260421T203850
CREATED:20250209T174641Z
LAST-MODIFIED:20250209T174641Z
UID:5467-1748649600-1748822399@krc-rhenania.de
SUMMARY:Regatta Heidelberg
DESCRIPTION:
URL:https://krc-rhenania.de/event/regatta-heidelberg
CATEGORIES:Regatta
END:VEVENT
BEGIN:VEVENT
DTSTART;VALUE=DATE:20250607
DTEND;VALUE=DATE:20250610
DTSTAMP:20260421T203850
CREATED:20250209T174826Z
LAST-MODIFIED:20250209T174826Z
UID:5469-1749254400-1749513599@krc-rhenania.de
SUMMARY:Pfingstregatta Gießen
DESCRIPTION:
URL:https://krc-rhenania.de/event/pfingstregatta-giessen
LOCATION:Gießen
CATEGORIES:Regatta
END:VEVENT
BEGIN:VEVENT
DTSTART;VALUE=DATE:20250618
DTEND;VALUE=DATE:20250623
DTSTAMP:20260421T203850
CREATED:20250209T175013Z
LAST-MODIFIED:20250209T175013Z
UID:5471-1750204800-1750636799@krc-rhenania.de
SUMMARY:Deutsche Jugendmeisterschaft
DESCRIPTION:
URL:https://krc-rhenania.de/event/deutsche-jugendmeisterschaft
LOCATION:Köln
CATEGORIES:Regatta
END:VEVENT
BEGIN:VEVENT
DTSTART;VALUE=DATE:20250626
DTEND;VALUE=DATE:20250630
DTSTAMP:20260421T203850
CREATED:20250209T175219Z
LAST-MODIFIED:20250209T175548Z
UID:5473-1750896000-1751241599@krc-rhenania.de
SUMMARY:Bundesentscheid für JuM
DESCRIPTION:
URL:https://krc-rhenania.de/event/bundesentscheid-fuer-jum
LOCATION:München
CATEGORIES:Regatta
END:VEVENT
END:VCALENDAR