BEGIN:VCALENDAR
VERSION:2.0
PRODID:-//Koblenzer Ruderclub Rhenania - ECPv6.15.20//NONSGML v1.0//EN
CALSCALE:GREGORIAN
METHOD:PUBLISH
X-WR-CALNAME:Koblenzer Ruderclub Rhenania
X-ORIGINAL-URL:https://krc-rhenania.de
X-WR-CALDESC:Veranstaltungen für Koblenzer Ruderclub Rhenania
REFRESH-INTERVAL;VALUE=DURATION:PT1H
X-Robots-Tag:noindex
X-PUBLISHED-TTL:PT1H
BEGIN:VTIMEZONE
TZID:Europe/Berlin
BEGIN:DAYLIGHT
TZOFFSETFROM:+0100
TZOFFSETTO:+0200
TZNAME:CEST
DTSTART:20240331T010000
END:DAYLIGHT
BEGIN:STANDARD
TZOFFSETFROM:+0200
TZOFFSETTO:+0100
TZNAME:CET
DTSTART:20241027T010000
END:STANDARD
BEGIN:DAYLIGHT
TZOFFSETFROM:+0100
TZOFFSETTO:+0200
TZNAME:CEST
DTSTART:20250330T010000
END:DAYLIGHT
BEGIN:STANDARD
TZOFFSETFROM:+0200
TZOFFSETTO:+0100
TZNAME:CET
DTSTART:20251026T010000
END:STANDARD
BEGIN:DAYLIGHT
TZOFFSETFROM:+0100
TZOFFSETTO:+0200
TZNAME:CEST
DTSTART:20260329T010000
END:DAYLIGHT
BEGIN:STANDARD
TZOFFSETFROM:+0200
TZOFFSETTO:+0100
TZNAME:CET
DTSTART:20261025T010000
END:STANDARD
END:VTIMEZONE
BEGIN:VEVENT
DTSTART;VALUE=DATE:20250502
DTEND;VALUE=DATE:20250505
DTSTAMP:20260421T221935
CREATED:20250209T173903Z
LAST-MODIFIED:20250209T173903Z
UID:5453-1746144000-1746403199@krc-rhenania.de
SUMMARY:DRV Junioren Regatta
DESCRIPTION:
URL:https://krc-rhenania.de/event/drv-junioren-regatta
LOCATION:München
CATEGORIES:Regatta
END:VEVENT
BEGIN:VEVENT
DTSTART;VALUE=DATE:20250504
DTEND;VALUE=DATE:20250505
DTSTAMP:20260421T221935
CREATED:20250209T174026Z
LAST-MODIFIED:20250209T174026Z
UID:5455-1746316800-1746403199@krc-rhenania.de
SUMMARY:Anrudern mit Tag der offenen Tür
DESCRIPTION:
URL:https://krc-rhenania.de/event/anrudern-mit-tag-der-offenen-tuer
LOCATION:Restaurant Delphi im Bootshaus KRCR
CATEGORIES:Verein
END:VEVENT
BEGIN:VEVENT
DTSTART;VALUE=DATE:20250509
DTEND;VALUE=DATE:20250512
DTSTAMP:20260421T221935
CREATED:20250209T174129Z
LAST-MODIFIED:20250209T174129Z
UID:5457-1746748800-1747007999@krc-rhenania.de
SUMMARY:Regatta Gent
DESCRIPTION:
URL:https://krc-rhenania.de/event/regatta-gent-2
LOCATION:Gent
CATEGORIES:Regatta
END:VEVENT
BEGIN:VEVENT
DTSTART;VALUE=DATE:20250517
DTEND;VALUE=DATE:20250519
DTSTAMP:20260421T221935
CREATED:20250209T174225Z
LAST-MODIFIED:20250209T174225Z
UID:5459-1747440000-1747612799@krc-rhenania.de
SUMMARY:Junioren Regatta
DESCRIPTION:
URL:https://krc-rhenania.de/event/junioren-regatta-4
LOCATION:Köln
CATEGORIES:Regatta
END:VEVENT
BEGIN:VEVENT
DTSTART;VALUE=DATE:20250524
DTEND;VALUE=DATE:20250526
DTSTAMP:20260421T221935
CREATED:20250209T174329Z
LAST-MODIFIED:20250209T174329Z
UID:5461-1748044800-1748217599@krc-rhenania.de
SUMMARY:JuM Regatta
DESCRIPTION:
URL:https://krc-rhenania.de/event/jum-regatta
LOCATION:Krefeld
CATEGORIES:Regatta
END:VEVENT
BEGIN:VEVENT
DTSTART;VALUE=DATE:20250530
DTEND;VALUE=DATE:20250602
DTSTAMP:20260421T221935
CREATED:20250209T174444Z
LAST-MODIFIED:20250209T174444Z
UID:5463-1748563200-1748822399@krc-rhenania.de
SUMMARY:DRV Junioren Regatta
DESCRIPTION:
URL:https://krc-rhenania.de/event/drv-junioren-regatta-2
LOCATION:Hamburg
CATEGORIES:Regatta
END:VEVENT
BEGIN:VEVENT
DTSTART;VALUE=DATE:20250530
DTEND;VALUE=DATE:20250602
DTSTAMP:20260421T221935
CREATED:20250209T174547Z
LAST-MODIFIED:20250209T174547Z
UID:5465-1748563200-1748822399@krc-rhenania.de
SUMMARY:Internationale Regatta Ratzeburg
DESCRIPTION:
URL:https://krc-rhenania.de/event/internationale-regatta-ratzeburg
LOCATION:Ratzeburg
CATEGORIES:Regatta
END:VEVENT
BEGIN:VEVENT
DTSTART;VALUE=DATE:20250531
DTEND;VALUE=DATE:20250602
DTSTAMP:20260421T221935
CREATED:20250209T174641Z
LAST-MODIFIED:20250209T174641Z
UID:5467-1748649600-1748822399@krc-rhenania.de
SUMMARY:Regatta Heidelberg
DESCRIPTION:
URL:https://krc-rhenania.de/event/regatta-heidelberg
CATEGORIES:Regatta
END:VEVENT
END:VCALENDAR