BEGIN:VCALENDAR
VERSION:2.0
PRODID:-//Koblenzer Ruderclub Rhenania - ECPv6.15.20//NONSGML v1.0//EN
CALSCALE:GREGORIAN
METHOD:PUBLISH
X-WR-CALNAME:Koblenzer Ruderclub Rhenania
X-ORIGINAL-URL:https://krc-rhenania.de
X-WR-CALDESC:Veranstaltungen für Koblenzer Ruderclub Rhenania
REFRESH-INTERVAL;VALUE=DURATION:PT1H
X-Robots-Tag:noindex
X-PUBLISHED-TTL:PT1H
BEGIN:VTIMEZONE
TZID:Europe/Berlin
BEGIN:DAYLIGHT
TZOFFSETFROM:+0100
TZOFFSETTO:+0200
TZNAME:CEST
DTSTART:20220327T010000
END:DAYLIGHT
BEGIN:STANDARD
TZOFFSETFROM:+0200
TZOFFSETTO:+0100
TZNAME:CET
DTSTART:20221030T010000
END:STANDARD
BEGIN:DAYLIGHT
TZOFFSETFROM:+0100
TZOFFSETTO:+0200
TZNAME:CEST
DTSTART:20230326T010000
END:DAYLIGHT
BEGIN:STANDARD
TZOFFSETFROM:+0200
TZOFFSETTO:+0100
TZNAME:CET
DTSTART:20231029T010000
END:STANDARD
BEGIN:DAYLIGHT
TZOFFSETFROM:+0100
TZOFFSETTO:+0200
TZNAME:CEST
DTSTART:20240331T010000
END:DAYLIGHT
BEGIN:STANDARD
TZOFFSETFROM:+0200
TZOFFSETTO:+0100
TZNAME:CET
DTSTART:20241027T010000
END:STANDARD
END:VTIMEZONE
BEGIN:VEVENT
DTSTART;VALUE=DATE:20230629
DTEND;VALUE=DATE:20230703
DTSTAMP:20260424T172921
CREATED:20230629T050841Z
LAST-MODIFIED:20230629T050841Z
UID:4877-1687996800-1688342399@krc-rhenania.de
SUMMARY:Bundeswettbewerb
DESCRIPTION:
URL:https://krc-rhenania.de/event/bundeswettbewerb
LOCATION:Brandenburg
CATEGORIES:Regatta
END:VEVENT
BEGIN:VEVENT
DTSTART;VALUE=DATE:20230719
DTEND;VALUE=DATE:20230724
DTSTAMP:20260424T172921
CREATED:20230629T050657Z
LAST-MODIFIED:20230629T050657Z
UID:4875-1689724800-1690156799@krc-rhenania.de
SUMMARY:Ruderweltmeisterschaft U23
DESCRIPTION:
URL:https://krc-rhenania.de/event/ruderweltmeisterschaft-u23
LOCATION:Plovdiv\, Bulgarien
CATEGORIES:Regatta
END:VEVENT
BEGIN:VEVENT
DTSTART;VALUE=DATE:20230727
DTEND;VALUE=DATE:20230731
DTSTAMP:20260424T172921
CREATED:20230806T152446Z
LAST-MODIFIED:20230806T152446Z
UID:4916-1690416000-1690761599@krc-rhenania.de
SUMMARY:Euro Masters Regatta
DESCRIPTION:
URL:https://krc-rhenania.de/event/euro-masters-regatta-3
LOCATION:München
CATEGORIES:Regatta
END:VEVENT
END:VCALENDAR